BEGIN:VCALENDAR
VERSION:2.0
PRODID:-//Macarthur Photographic Society - ECPv6.15.4//NONSGML v1.0//EN
CALSCALE:GREGORIAN
METHOD:PUBLISH
X-ORIGINAL-URL:https://macarthurphotographicsociety.org.au
X-WR-CALDESC:Events for Macarthur Photographic Society
REFRESH-INTERVAL;VALUE=DURATION:PT1H
X-Robots-Tag:noindex
X-PUBLISHED-TTL:PT1H
BEGIN:VTIMEZONE
TZID:Australia/Sydney
BEGIN:STANDARD
TZOFFSETFROM:+1100
TZOFFSETTO:+1000
TZNAME:AEST
DTSTART:20240406T160000
END:STANDARD
BEGIN:DAYLIGHT
TZOFFSETFROM:+1000
TZOFFSETTO:+1100
TZNAME:AEDT
DTSTART:20241005T160000
END:DAYLIGHT
END:VTIMEZONE
BEGIN:VEVENT
DTSTART;TZID=Australia/Sydney:20241211T193000
DTEND;TZID=Australia/Sydney:20241211T220000
DTSTAMP:20260426T011241
CREATED:20170930T173155Z
LAST-MODIFIED:20240717T065643Z
UID:286-1733945400-1733954400@macarthurphotographicsociety.org.au
SUMMARY:Top Shot Presentation
DESCRIPTION:Top Shot Judge: TBC. \nThis is the big event for 2024. The society’s best images will battle it out for the prestigious Robert Rosee Top Shot of the Year Award as well as category winners for the years point score competition will be presented. \n  \n  \n 
URL:https://macarthurphotographicsociety.org.au/event/top-shot-presentation/
LOCATION:Currans Hill Community Centre\, Cnr Tramway Drive and Currans Hill Drive\, Currans Hill\, NSW\, 2567\, Australia
END:VEVENT
END:VCALENDAR