BEGIN:VCALENDAR
VERSION:2.0
PRODID:-//Macarthur Photographic Society - ECPv6.15.4//NONSGML v1.0//EN
CALSCALE:GREGORIAN
METHOD:PUBLISH
X-ORIGINAL-URL:https://macarthurphotographicsociety.org.au
X-WR-CALDESC:Events for Macarthur Photographic Society
REFRESH-INTERVAL;VALUE=DURATION:PT1H
X-Robots-Tag:noindex
X-PUBLISHED-TTL:PT1H
BEGIN:VTIMEZONE
TZID:Australia/Sydney
BEGIN:STANDARD
TZOFFSETFROM:+1100
TZOFFSETTO:+1000
TZNAME:AEST
DTSTART:20240406T160000
END:STANDARD
BEGIN:DAYLIGHT
TZOFFSETFROM:+1000
TZOFFSETTO:+1100
TZNAME:AEDT
DTSTART:20241005T160000
END:DAYLIGHT
END:VTIMEZONE
BEGIN:VEVENT
DTSTART;TZID=Australia/Sydney:20240214T193000
DTEND;TZID=Australia/Sydney:20240214T220000
DTSTAMP:20260425T132338
CREATED:20171218T170152Z
LAST-MODIFIED:20240213T022112Z
UID:354-1707939000-1707948000@macarthurphotographicsociety.org.au
SUMMARY:February Competition Meeting
DESCRIPTION:COMPETITION MEETING \nEntry open to Macarthur Photographic Society Members. \nJudge: Linda Fury. \nPhotographic Challenge \nArtistic Creative Challenge: Urban Symmetrical. \nVisitors welcome. \nThe 5 categories for our competition meetings are Colour Prints\, Monochrome Prints\, Colour Digital Projected\, Monochrome Digital Projected and Photographic Challenge (which is also digitally projected). Digital entries are to be emailed to the Competition Secretary by the Friday night before the competition night. Print images are to be submitted on the night 15min before the meeting commences. Entry fees are to be pre-paid online to the Treasurer. $1.00 each print\, $2.00 for each digital image. A maximum of 5 entries per member with a maximum of 2 entries for any category. \nA little about our judge Linda \nLinda Fury is a passionate 40-something year old Australian award winning photographer based in the Illawarra region of New South Wales. Linda is a very active member of many photography groups and is currently the youngest President of the Kiama-Shellharbour Camera Club. \nPhotographic Journey \n Linda has been an avid photographer from a very young age. She loved taking images with her little camera and then dropping the rolls of film off the camera shop then waiting weeks to have them returned to her. Opening the packet of photos was always a delight \nLinda has been using Pentax cameras for the past 20 years and has been a regular featured photographer on the Pentax Facebook page. \nShe has been on many holidays both in Australia and over the world\, and always comes back with thousands of photos. She gets to understand different cultures with the power of her photography. \nOne of her photos from her trip to Myanmar won the 2016 Changi Airport Photographer of the Year award – which she was awarded an overseas holiday. \nShe has taken out the double of Colour & Monochrome Photographer of the year in 2017 and Monochrome Photographer of the year in 2018 at the Kiama Shellharbour Camera Club’s annual awards. \nHer latest trip to Scotland has produced some great results for her in various competitions\, but most notably a finalist in the Scottish Landscape Photographer of the Year Awards. \nLinda decided to improve on her photographic journey by becoming a judge at club levels. She has judged at many local clubs and has recently judged at the Western Districts Interclub competition held in Parkes. She has recently shown her “Street Photography” presentation to many clubs and it has been received quite well. \nLinda doesn’t have a favourite genre of photography but prefers to experiment and have fun with her camera. \nYou can see her work – Linda Fury Photography on both Facebook and Instagram. \n \n 
URL:https://macarthurphotographicsociety.org.au/event/february-competition-meeting/
LOCATION:Currans Hill Community Centre\, Cnr Tramway Drive and Currans Hill Drive\, Currans Hill\, NSW\, 2567\, Australia
CATEGORIES:Competition Meeting
END:VEVENT
BEGIN:VEVENT
DTSTART;TZID=Australia/Sydney:20240224T130000
DTEND;TZID=Australia/Sydney:20240224T170000
DTSTAMP:20260425T132338
CREATED:20240215T010825Z
LAST-MODIFIED:20240215T010956Z
UID:1475-1708779600-1708794000@macarthurphotographicsociety.org.au
SUMMARY:February Photo Walk
DESCRIPTION:February Photo Walk \nCity walk with Dex \nPhoto walks are for MPS members only to attend. Members check your Cable Release for further details. \n 
URL:https://macarthurphotographicsociety.org.au/event/1475/
LOCATION:Sydney City
CATEGORIES:Photo Walk
END:VEVENT
BEGIN:VEVENT
DTSTART;TZID=Australia/Sydney:20240228T193000
DTEND;TZID=Australia/Sydney:20240228T220000
DTSTAMP:20260425T132338
CREATED:20171218T171605Z
LAST-MODIFIED:20240213T022434Z
UID:360-1709148600-1709157600@macarthurphotographicsociety.org.au
SUMMARY:February Presentation Meeting
DESCRIPTION:PRESENTATION MEETING \nPresenter: Sandra Dann. \nSubject: Snapshot or Showcase: Deciding Between Happy Snap and Photography Excellence \nWhen it comes to presenting a photo to judges in a competition\, the choice between a happy snap and a competition-worthy photo can be crucial. Elevating your photograph to competition standards often involves post-processing techniques that enhance its visual impact and technical quality. Sandra Dann will share her knowledge and experience as an Award-Winning Photographer/Creative and Adobe Community Expert in refining your images and making them stand out in the eyes of judges. \nWhether you’re a seasoned photographer or just starting your journey\, “Snapshot or Showcase” will equip you with the knowledge and skills needed to turn your photos into competition-worthy entries. Embrace the world of post-processing\, and let your creativity shine as you present your best work to judges who appreciate the dedication and craftsmanship behind every pixel. \n \n  \nVisitors welcome. \n  \n  \n  \n  \n  \n  \n 
URL:https://macarthurphotographicsociety.org.au/event/february-presentation-meeting/
LOCATION:Currans Hill Community Centre\, Cnr Tramway Drive and Currans Hill Drive\, Currans Hill\, NSW\, 2567\, Australia
CATEGORIES:Presentation Meeting
END:VEVENT
END:VCALENDAR