BEGIN:VCALENDAR
VERSION:2.0
PRODID:-//Macarthur Photographic Society - ECPv6.15.4//NONSGML v1.0//EN
CALSCALE:GREGORIAN
METHOD:PUBLISH
X-WR-CALNAME:Macarthur Photographic Society
X-ORIGINAL-URL:https://macarthurphotographicsociety.org.au
X-WR-CALDESC:Events for Macarthur Photographic Society
REFRESH-INTERVAL;VALUE=DURATION:PT1H
X-Robots-Tag:noindex
X-PUBLISHED-TTL:PT1H
BEGIN:VTIMEZONE
TZID:Australia/Sydney
BEGIN:STANDARD
TZOFFSETFROM:+1100
TZOFFSETTO:+1000
TZNAME:AEST
DTSTART:20230401T160000
END:STANDARD
BEGIN:DAYLIGHT
TZOFFSETFROM:+1000
TZOFFSETTO:+1100
TZNAME:AEDT
DTSTART:20230930T160000
END:DAYLIGHT
END:VTIMEZONE
BEGIN:VEVENT
DTSTART;TZID=Australia/Sydney:20230712T193000
DTEND;TZID=Australia/Sydney:20230712T220000
DTSTAMP:20260425T102524
CREATED:20180625T011117Z
LAST-MODIFIED:20230626T054852Z
UID:578-1689190200-1689199200@macarthurphotographicsociety.org.au
SUMMARY:July Competition Meeting
DESCRIPTION:COMPETITION MEETING \nEntry open to Macarthur Photographic Society Members. \nJudge: Jay Patel \nTechnical Skill Challenge: Light and Dark. \nVisitors welcome. \nThe 5 categories for our competition meetings are Colour Prints\, Monochrome Prints\, Colour Digital Projected\, Monochrome Digital Projected and Creative Theme (which is also digitally projected). Digital entries are to be emailed to the Competition Secretary by the Sunday night before the competition night. Print images are to be submitted on the night 15min before the meeting commences. Entry fees are to be pre-paid online to the Treasurer. $1.00 each print\, $2.00 for each digital image. A maximum of 5 entries per member with a maximum of 2 entries for any category.
URL:https://macarthurphotographicsociety.org.au/event/july-competition-meeting/
LOCATION:Currans Hill Community Centre\, Cnr Tramway Drive and Currans Hill Drive\, Currans Hill\, NSW\, 2567\, Australia
CATEGORIES:Competition Meeting
END:VEVENT
BEGIN:VEVENT
DTSTART;TZID=Australia/Sydney:20230727T053000
DTEND;TZID=Australia/Sydney:20230727T080000
DTSTAMP:20260425T102524
CREATED:20180625T011425Z
LAST-MODIFIED:20230627T015422Z
UID:580-1690435800-1690444800@macarthurphotographicsociety.org.au
SUMMARY:MPS Annual General Meeting
DESCRIPTION:Our Annual General Meeting is held to report back on the Society’s last 12 month’s activities and to vote in a new committee to continue on for the next year. \nAll committee positions will be declared vacant so any financial Society member can stand for a position to help organise the Society for any of the many roles available. \nNote: Annual Membership must be paid by this date for the 2023 -24 financial year. \nWe will also have a visual presentation by a number of our members about some of the exotic places they have been.
URL:https://macarthurphotographicsociety.org.au/event/mps-annual-general-meeting/
LOCATION:Online Meeting\, Australia
CATEGORIES:AGM
END:VEVENT
END:VCALENDAR