BEGIN:VCALENDAR
VERSION:2.0
PRODID:-//Macarthur Photographic Society - ECPv6.15.4//NONSGML v1.0//EN
CALSCALE:GREGORIAN
METHOD:PUBLISH
X-ORIGINAL-URL:https://macarthurphotographicsociety.org.au
X-WR-CALDESC:Events for Macarthur Photographic Society
REFRESH-INTERVAL;VALUE=DURATION:PT1H
X-Robots-Tag:noindex
X-PUBLISHED-TTL:PT1H
BEGIN:VTIMEZONE
TZID:Australia/Sydney
BEGIN:STANDARD
TZOFFSETFROM:+1100
TZOFFSETTO:+1000
TZNAME:AEST
DTSTART:20250405T160000
END:STANDARD
BEGIN:DAYLIGHT
TZOFFSETFROM:+1000
TZOFFSETTO:+1100
TZNAME:AEDT
DTSTART:20251004T160000
END:DAYLIGHT
END:VTIMEZONE
BEGIN:VEVENT
DTSTART;TZID=Australia/Sydney:20250910T193000
DTEND;TZID=Australia/Sydney:20250910T230000
DTSTAMP:20260425T220058
CREATED:20250906T070126Z
LAST-MODIFIED:20250906T071742Z
UID:1641-1757532600-1757545200@macarthurphotographicsociety.org.au
SUMMARY:September Competition Meeting
DESCRIPTION:COMPETITION MEETING Entry open to Macarthur Photographic Society Members. Judge: Sue Curtis. \n  \nPhotographic Challenge: TechnicalSkill – Light Painting
URL:https://macarthurphotographicsociety.org.au/event/september-competition-meeting-2/
LOCATION:Currans Hill Community Centre\, Cnr Tramway Drive and Currans Hill Drive\, Currans Hill\, NSW\, 2567\, Australia
END:VEVENT
BEGIN:VEVENT
DTSTART;TZID=Australia/Sydney:20250924T193000
DTEND;TZID=Australia/Sydney:20250924T220000
DTSTAMP:20260425T220058
CREATED:20180910T223830Z
LAST-MODIFIED:20250917T111559Z
UID:638-1758742200-1758751200@macarthurphotographicsociety.org.au
SUMMARY:September Presentation Meeting
DESCRIPTION:PRESENTATION MEETING \nPresenter: MPS Members. \nSubject: Table Top Night. \nA practical event where members can bring along their cameras\, lighting and props to get creative with a bit of indoor photography. Think creative and simple set ups that other members can experience and learn from as well. \n  \n  \nVisitors Welcome
URL:https://macarthurphotographicsociety.org.au/event/september-presentation-meeting/
LOCATION:Currans Hill Community Centre\, Cnr Tramway Drive and Currans Hill Drive\, Currans Hill\, NSW\, 2567\, Australia
CATEGORIES:Presentation Meeting
END:VEVENT
BEGIN:VEVENT
DTSTART;TZID=Australia/Sydney:20251008T193000
DTEND;TZID=Australia/Sydney:20251008T220000
DTSTAMP:20260425T220058
CREATED:20170930T192156Z
LAST-MODIFIED:20250906T072216Z
UID:302-1759951800-1759960800@macarthurphotographicsociety.org.au
SUMMARY:October Competition Meeting
DESCRIPTION:COMPETITION MEETING \nEntry open to Macarthur Photographic Society Members. \nJudge: Flavio Spedalieri. \nArtistic Creative Challenge: Metal. \nVisitors welcome. \n  \n 
URL:https://macarthurphotographicsociety.org.au/event/october-competition-meeting/
LOCATION:Currans Hill Community Centre\, Cnr Tramway Drive and Currans Hill Drive\, Currans Hill\, NSW\, 2567\, Australia
CATEGORIES:Competition Meeting
END:VEVENT
BEGIN:VEVENT
DTSTART;TZID=Australia/Sydney:20251022T193000
DTEND;TZID=Australia/Sydney:20251022T220000
DTSTAMP:20260425T220058
CREATED:20170930T192736Z
LAST-MODIFIED:20250906T072359Z
UID:305-1761161400-1761170400@macarthurphotographicsociety.org.au
SUMMARY:October Presentation Meeting
DESCRIPTION:Presentation Meeting \nPresenter: TBC. \nSubject: TBC \nVisitors are always welcome.
URL:https://macarthurphotographicsociety.org.au/event/305/
LOCATION:Currans Hill Community Centre\, Cnr Tramway Drive and Currans Hill Drive\, Currans Hill\, NSW\, 2567\, Australia
CATEGORIES:Presentation Meeting
END:VEVENT
BEGIN:VEVENT
DTSTART;TZID=Australia/Sydney:20251112T193000
DTEND;TZID=Australia/Sydney:20251112T220000
DTSTAMP:20260425T220058
CREATED:20170930T182321Z
LAST-MODIFIED:20250906T072942Z
UID:296-1762975800-1762984800@macarthurphotographicsociety.org.au
SUMMARY:November Competition Meeting
DESCRIPTION:COMPETITION MEETING \nEntry open to Macarthur Photographic Society Members. \nJudge: Jay Evans \nPhotographic Challenge: ArtisticCreative Challenge High Speed Photography \nNOTE: Entries for 2023 Top Shot Close Tonight. \nVisitors Welcome \n 
URL:https://macarthurphotographicsociety.org.au/event/november-competition-meeting/
LOCATION:Currans Hill Community Centre\, Cnr Tramway Drive and Currans Hill Drive\, Currans Hill\, NSW\, 2567\, Australia
CATEGORIES:Competition Meeting
END:VEVENT
BEGIN:VEVENT
DTSTART;TZID=Australia/Sydney:20251126T193000
DTEND;TZID=Australia/Sydney:20251126T220000
DTSTAMP:20260425T220058
CREATED:20170930T190024Z
LAST-MODIFIED:20250906T073303Z
UID:300-1764185400-1764194400@macarthurphotographicsociety.org.au
SUMMARY:November Presentation Meeting
DESCRIPTION:Presentation Meeting \nPresenter: ColinTalbot \nSubject: Nature Portraits \nVisitors Welcome.
URL:https://macarthurphotographicsociety.org.au/event/november-presentation-meeting/
LOCATION:Currans Hill Community Centre\, Cnr Tramway Drive and Currans Hill Drive\, Currans Hill\, NSW\, 2567\, Australia
CATEGORIES:Presentation Meeting
END:VEVENT
END:VCALENDAR