BEGIN:VCALENDAR
VERSION:2.0
PRODID:-//Macarthur Photographic Society - ECPv6.15.4//NONSGML v1.0//EN
CALSCALE:GREGORIAN
METHOD:PUBLISH
X-WR-CALNAME:Macarthur Photographic Society
X-ORIGINAL-URL:https://macarthurphotographicsociety.org.au
X-WR-CALDESC:Events for Macarthur Photographic Society
REFRESH-INTERVAL;VALUE=DURATION:PT1H
X-Robots-Tag:noindex
X-PUBLISHED-TTL:PT1H
BEGIN:VTIMEZONE
TZID:Australia/Sydney
BEGIN:STANDARD
TZOFFSETFROM:+1100
TZOFFSETTO:+1000
TZNAME:AEST
DTSTART:20170401T160000
END:STANDARD
BEGIN:DAYLIGHT
TZOFFSETFROM:+1000
TZOFFSETTO:+1100
TZNAME:AEDT
DTSTART:20170930T160000
END:DAYLIGHT
END:VTIMEZONE
BEGIN:VEVENT
DTSTART;TZID=Australia/Sydney:20171125T194500
DTEND;TZID=Australia/Sydney:20171126T030000
DTSTAMP:20260425T215751
CREATED:20171010T172047Z
LAST-MODIFIED:20171106T195016Z
UID:319-1511639100-1511665200@macarthurphotographicsociety.org.au
SUMMARY:Adobe Lightroom & Photoshop Masterclass
DESCRIPTION:MACARTHUR PHOTOGRAPHIC SOCIETY\nProudly presents Adobe Ambassador MARK GALER\nMark will conduct a one day Lightroom and Photoshop CC Masterclass on Saturday 25th November 8:45am – 4:00pm at the Camden Civic Centre Undercroft Room.\nThis one day Masterclass/Seminar is for all budding photographers from Beginner to Advanced who would like to take their photography to the next level using Adobe’s Lightroom and Photoshop CC software packages. \nThis informative session will include essential tips and techniques to provide photographers with the skills to implement a smart imaging workflow from capture to output.\nLightroom is the master of the five-minute makeover. Mark will show you how to quickly and effortlessly transform your images into five-star folio photographs using global and localized Edits (including Graduated and Radial Filters\, Adjustment Brushes & Effects). During these post-production edits Mark will discuss the optimum camera settings to capture outstanding images in the genres of portraiture\, landscape wildlife/action and street photography. \nMark will also discuss why it is sometimes necessary to open images into Photoshop CC and he will demonstrate the optimum workflow to ensure the software works as a team. He will conclude the talk by discussing how Adobe’s Creative Cloud services facilitate a modern and efficient imaging workflow. \nNote > Mark will be sharing free Lightroom Presets\, Photoshop Actions\, Movie Tutorials + eBooks on Colour and Catalog Management. \nA little bit about Mark Galer\nMark Galer is a seasoned professional photographer\, educator\, author\, Adobe Imaging Ambassador for Australia and New Zealand and all round Photoshop Guru. He has written thirty books for the International publisher Focal Press\, has served as a Senior Lecturer and Program Director of the BA Photography course at RMIT University in Melbourne and is a Sony Global Imaging Ambassador.\n  \nCLICK HERE TO BOOK NOW – TICKETS SELLING FAST!
URL:https://macarthurphotographicsociety.org.au/event/adobe-lightroom-photoshop-workshop/
LOCATION:Camden Civic Centre\, Oxley Street\, Camden\, NSW\, 2570\, Australia
END:VEVENT
BEGIN:VEVENT
DTSTART;TZID=Australia/Sydney:20171019T053000
DTEND;TZID=Australia/Sydney:20171019T090000
DTSTAMP:20260425T215751
CREATED:20170930T193422Z
LAST-MODIFIED:20171015T174305Z
UID:309-1508391000-1508403600@macarthurphotographicsociety.org.au
SUMMARY:October Workshop Meeting
DESCRIPTION:This months workshop for members will be run by David Williams our club photographer who has organised a great “Light Painting” workshop which will be run on a local property.
URL:https://macarthurphotographicsociety.org.au/event/october-workshop-meeting/
LOCATION:NSW
END:VEVENT
END:VCALENDAR